BEGIN:VCALENDAR
VERSION:2.0
PRODID:-//APFEL ARENA - ECPv5.16.3.1//NONSGML v1.0//EN
CALSCALE:GREGORIAN
METHOD:PUBLISH
X-WR-CALNAME:APFEL ARENA
X-ORIGINAL-URL:https://apfelarena.hr/en/
X-WR-CALDESC:Events for APFEL ARENA
REFRESH-INTERVAL;VALUE=DURATION:PT1H
X-Robots-Tag:noindex
X-PUBLISHED-TTL:PT1H
BEGIN:VTIMEZONE
TZID:Europe/Zagreb
BEGIN:DAYLIGHT
TZOFFSETFROM:+0100
TZOFFSETTO:+0200
TZNAME:CEST
DTSTART:20230326T010000
END:DAYLIGHT
BEGIN:STANDARD
TZOFFSETFROM:+0200
TZOFFSETTO:+0100
TZNAME:CET
DTSTART:20231029T010000
END:STANDARD
END:VTIMEZONE
BEGIN:VEVENT
DTSTART;TZID=Europe/Zagreb:20230512T190000
DTEND;TZID=Europe/Zagreb:20230512T190000
DTSTAMP:20260425T125404
CREATED:20230417T092753Z
LAST-MODIFIED:20230417T092753Z
UID:7057-1683918000-1683918000@apfelarena.hr
SUMMARY:Big Band Makarska
DESCRIPTION:Koncert Big Band Makarska.
URL:https://apfelarena.hr/en/dogadaj/big-band-makarska/
CATEGORIES:Concerts
ATTACH;FMTTYPE=image/jpeg:https://apfelarena.hr/wp-content/uploads/2023/05/bbm.jpeg
END:VEVENT
BEGIN:VEVENT
DTSTART;TZID=Europe/Zagreb:20230511T200000
DTEND;TZID=Europe/Zagreb:20230511T200000
DTSTAMP:20260425T125404
CREATED:20230505T133306Z
LAST-MODIFIED:20230505T134836Z
UID:7025-1683835200-1683835200@apfelarena.hr
SUMMARY:Book Club: The Next Chapter
DESCRIPTION:The highly anticipated sequel follows our four best friends as they take their book club to Italy for the fun girls trip they never had. When things go off the rails and secrets are revealed\, their relaxing vacation turns into a once-in-a-lifetime cross-country adventure. \nBill Holderman\n1h 38m – US \n  \nYou can buy tickets online at Kino Mediteran Makarska
URL:https://apfelarena.hr/en/dogadaj/book-club-the-next-chapter/
LOCATION:Apfel Arena\, Put Volicije 5\, Makarska\, Hrvatska
CATEGORIES:Cinema shows
ATTACH;FMTTYPE=image/jpeg:https://apfelarena.hr/wp-content/uploads/2023/05/klub-zadovoljnih-zena-2-novo-poglavlje.jpg
END:VEVENT
BEGIN:VEVENT
DTSTART;TZID=Europe/Zagreb:20230507T180000
DTEND;TZID=Europe/Zagreb:20230507T180000
DTSTAMP:20260425T125404
CREATED:20230503T083253Z
LAST-MODIFIED:20230503T083641Z
UID:6955-1683482400-1683482400@apfelarena.hr
SUMMARY:Koko i duhovi
DESCRIPTION:Young Koko has just moved with his parents from his idyllic countryside home to a big city. There\, with the help of his new friends and a neighbour he investigates the mysterious case of a dead old man who used to live in the flat he has just moved into. The old man\, it seems\, has begun to re-appear as a ghost – though no one knows why. Koko and the Ghosts is a family film based on a popular Croatian series of young-adult novels about a twelve-year-old hero\, brave enough to suppress his fears and smart enough to solve big mysteries. \nDaniel Kušan\n1h 35m – HR \n  \nYou can buy tickets online at Kino Mediteran Makarska
URL:https://apfelarena.hr/en/dogadaj/koko-i-duhovi/
LOCATION:Apfel Arena\, Put Volicije 5\, Makarska\, Hrvatska
CATEGORIES:Cinema shows
ATTACH;FMTTYPE=image/jpeg:https://apfelarena.hr/wp-content/uploads/2023/05/koko-i-duhovi.jpg
END:VEVENT
BEGIN:VEVENT
DTSTART;TZID=Europe/Zagreb:20230506T200000
DTEND;TZID=Europe/Zagreb:20230506T200000
DTSTAMP:20260425T125404
CREATED:20230503T083108Z
LAST-MODIFIED:20230503T083558Z
UID:6954-1683403200-1683403200@apfelarena.hr
SUMMARY:The Priest's Children
DESCRIPTION:To help increase the birth rate of a small town on a Dalmatian island\, the young priest Don Fabijan starts to pierce condoms before they are sold. He teams up with a simple-minded newsstand owner and a mad pharmacist and the three of them secretly abolish contraception on the island. After the initial success\, with many births and marriages\, things start to get complicated. Finally\, the bishop comes to the island and everything turns completely crazy. \nVinko Brešan\n1h 33m – HR \n  \nYou can buy tickets online at Kino Mediteran Makarska
URL:https://apfelarena.hr/en/dogadaj/the-priests-children/
LOCATION:Apfel Arena\, Put Volicije 5\, Makarska\, Hrvatska
CATEGORIES:Cinema shows
ATTACH;FMTTYPE=image/jpeg:https://apfelarena.hr/wp-content/uploads/2023/05/sveenikova-djeca.jpg
END:VEVENT
BEGIN:VEVENT
DTSTART;TZID=Europe/Zagreb:20230504T200000
DTEND;TZID=Europe/Zagreb:20230504T200000
DTSTAMP:20260425T125404
CREATED:20230503T082916Z
LAST-MODIFIED:20230503T083513Z
UID:6953-1683230400-1683230400@apfelarena.hr
SUMMARY:Guardians of the Galaxy Vol. 3
DESCRIPTION:In Marvel Studios “Guardians of the Galaxy Vol. 3” our beloved band of misfits are looking a bit different these days. Peter Quill\, still reeling from the loss of Gamora\, must rally his team around him to defend the universe along with protecting one of their own. A mission that\, if not completed successfully\, could quite possibly lead to the end of the Guardians as we know them. \nJames Gunn\n2h 30m – US \n  \nYou can buy tickets online at Kino Mediteran Makarska
URL:https://apfelarena.hr/en/dogadaj/guardians-of-the-galaxy-vol-3/
LOCATION:Apfel Arena\, Put Volicije 5\, Makarska\, Hrvatska
CATEGORIES:Cinema shows
ATTACH;FMTTYPE=image/jpeg:https://apfelarena.hr/wp-content/uploads/2023/05/cuvari-galaksije-vol-3.jpg
END:VEVENT
BEGIN:VEVENT
DTSTART;TZID=Europe/Zagreb:20230422T200000
DTEND;TZID=Europe/Zagreb:20230422T200000
DTSTAMP:20260425T125404
CREATED:20230411T090907Z
LAST-MODIFIED:20230411T091040Z
UID:6729-1682193600-1682193600@apfelarena.hr
SUMMARY:Renfield
DESCRIPTION:In this modern monster tale of Dracula’s loyal servant\, Nicholas Hoult (Mad Max: Fury Road\, X-Men franchise) stars as Renfield\, the tortured aide to history’s most narcissistic boss\, Dracula (Oscar® winner Nicolas Cage). Renfield is forced to procure his master’s prey and do his every bidding\, no matter how debased. But now\, after centuries of servitude\, Renfield is ready to see if there’s a life outside the shadow of The Prince of Darkness. If only he can figure out how to end his codependency. \nChris McKay\n1h 33m – US \n  \nYou can buy tickets online at Kino Mediteran Makarska
URL:https://apfelarena.hr/en/dogadaj/renfield/
LOCATION:Apfel Arena\, Put Volicije 5\, Makarska\, Hrvatska
ATTACH;FMTTYPE=image/jpeg:https://apfelarena.hr/wp-content/uploads/2023/04/renfield.jpeg
END:VEVENT
BEGIN:VEVENT
DTSTART;TZID=Europe/Zagreb:20230420T200000
DTEND;TZID=Europe/Zagreb:20230420T200000
DTSTAMP:20260425T125404
CREATED:20230411T090438Z
LAST-MODIFIED:20230411T090527Z
UID:6723-1682020800-1682020800@apfelarena.hr
SUMMARY:Tori and Lokita
DESCRIPTION:From two-time Palme d’Or-winners Jean-Pierre and Luc Dardenne\, Tori and Lokita is a heart-stopping thriller that casts an unflinching eye on the trials of the young and dispossessed. \nJean-Pierre Dardenne\, Luc Dardenne\n1h 28m – BE\, FR \n  \nYou can buy tickets online at Kino Mediteran Makarska
URL:https://apfelarena.hr/en/dogadaj/tori-and-lokita/
LOCATION:Apfel Arena\, Put Volicije 5\, Makarska\, Hrvatska
ATTACH;FMTTYPE=image/jpeg:https://apfelarena.hr/wp-content/uploads/2023/04/tori-i-lokita.jpg
END:VEVENT
BEGIN:VEVENT
DTSTART;TZID=Europe/Zagreb:20230416T180000
DTEND;TZID=Europe/Zagreb:20230416T180000
DTSTAMP:20260425T125404
CREATED:20230411T090050Z
LAST-MODIFIED:20230411T090228Z
UID:6711-1681668000-1681668000@apfelarena.hr
SUMMARY:Ooops! The Adventure Continues
DESCRIPTION:Adrift on a flood\, two misfit castaways struggle to reunite an unorthodox family\, out-run a volcano\, and negotiate a peace deal on a creaking Ark. \nToby Genkel\, Sean McCormack\n1h 25m – IE\, LU \n  \nYou can buy tickets online at Kino Mediteran Makarska
URL:https://apfelarena.hr/en/dogadaj/ooops-the-adventure-continues/
LOCATION:Apfel Arena\, Put Volicije 5\, Makarska\, Hrvatska
ATTACH;FMTTYPE=image/jpeg:https://apfelarena.hr/wp-content/uploads/2023/04/ups-2-avantura-se-nastavlja-sink.jpg
END:VEVENT
BEGIN:VEVENT
DTSTART;TZID=Europe/Zagreb:20230415T200000
DTEND;TZID=Europe/Zagreb:20230415T200000
DTSTAMP:20260425T125404
CREATED:20230411T085737Z
LAST-MODIFIED:20230411T085900Z
UID:6708-1681588800-1681588800@apfelarena.hr
SUMMARY:Holy Spider
DESCRIPTION:A journalist descends into the dark underbelly of the Iranian holy city of Mashhad as she investigates the serial killings of sex workers by the so called “Spider Killer”\, who believes he is cleansing the streets of sinners. \nAli Abbasi\n1h 48m – DK\, DE\, FR\, \n  \nYou can buy tickets online at Kino Mediteran Makarska
URL:https://apfelarena.hr/en/dogadaj/holy-spider/
LOCATION:Apfel Arena\, Put Volicije 5\, Makarska\, Hrvatska
ATTACH;FMTTYPE=image/jpeg:https://apfelarena.hr/wp-content/uploads/2023/04/sveti-pauk.jpg
END:VEVENT
BEGIN:VEVENT
DTSTART;TZID=Europe/Zagreb:20230413T200000
DTEND;TZID=Europe/Zagreb:20230413T200000
DTSTAMP:20260425T125404
CREATED:20230411T084419Z
LAST-MODIFIED:20230411T085445Z
UID:6702-1681416000-1681416000@apfelarena.hr
SUMMARY:Air
DESCRIPTION:Follows the history of shoe salesman Sonny Vaccaro\, and how he led Nike in its pursuit of the greatest athlete in the history of basketball: Michael Jordan. \nBen Affleck\n1h 52m – US \n  \nYou can buy tickets online at Kino Mediteran Makarska
URL:https://apfelarena.hr/en/dogadaj/air-2/
LOCATION:Apfel Arena\, Put Volicije 5\, Makarska\, Hrvatska
ATTACH;FMTTYPE=image/jpeg:https://apfelarena.hr/wp-content/uploads/2023/04/air.jpg
END:VEVENT
BEGIN:VEVENT
DTSTART;TZID=Europe/Zagreb:20230410T200000
DTEND;TZID=Europe/Zagreb:20230410T200000
DTSTAMP:20260425T125404
CREATED:20230327T113248Z
LAST-MODIFIED:20230329T112036Z
UID:6620-1681156800-1681156800@apfelarena.hr
SUMMARY:The Super Mario Bros. Movie Sync
DESCRIPTION:With help from Princess Peach\, Mario gets ready to square off against the all-powerful Bowser to stop his plans from conquering the world. \nAaron Horvath\, Michael Jelenic\n1h 32m – US \nTICKETS AVAILABLE ONLINE: \nhttps://biletinial.com/en/sinema/koltuk_secimi/11651390/1018
URL:https://apfelarena.hr/en/dogadaj/the-super-mario-bros-movie-sync/
LOCATION:Apfel Arena\, Put Volicije 5\, Makarska\, Hrvatska
ATTACH;FMTTYPE=image/jpeg:https://apfelarena.hr/wp-content/uploads/2023/03/super-mario-bros-film-sink.jpeg
END:VEVENT
BEGIN:VEVENT
DTSTART;TZID=Europe/Zagreb:20230408T200000
DTEND;TZID=Europe/Zagreb:20230408T200000
DTSTAMP:20260425T125404
CREATED:20230327T113135Z
LAST-MODIFIED:20230329T112117Z
UID:6615-1680984000-1680984000@apfelarena.hr
SUMMARY:Air
DESCRIPTION:Follows the history of shoe salesman Sonny Vaccaro\, and how he led Nike in its pursuit of the greatest athlete in the history of basketball: Michael Jordan. \nBen Affleck\n1h 52m – US \nTICKETS AVAILABLE ONLINE:\n \nhttps://biletinial.com/en/sinema/koltuk_secimi/11638104/1018
URL:https://apfelarena.hr/en/dogadaj/air/
LOCATION:Apfel Arena\, Put Volicije 5\, Makarska\, Hrvatska
ATTACH;FMTTYPE=image/jpeg:https://apfelarena.hr/wp-content/uploads/2023/03/air.jpg
END:VEVENT
BEGIN:VEVENT
DTSTART;TZID=Europe/Zagreb:20230406T200000
DTEND;TZID=Europe/Zagreb:20230406T200000
DTSTAMP:20260425T125404
CREATED:20230327T113017Z
LAST-MODIFIED:20230329T112129Z
UID:6616-1680811200-1680811200@apfelarena.hr
SUMMARY:Nešto slatko
DESCRIPTION:“Something Sweet” is a romantic comedy of confusion. \nTin Vodopivec\n1h 30m – SI\, HR \nTICETS AVAILABLE ONLINE:\n \nhttps://biletinial.com/en/sinema/koltuk_secimi/11638103/1018
URL:https://apfelarena.hr/en/dogadaj/nesto-slatko/
LOCATION:Apfel Arena\, Put Volicije 5\, Makarska\, Hrvatska
ATTACH;FMTTYPE=image/jpeg:https://apfelarena.hr/wp-content/uploads/2023/03/neto-slatko.jpg
END:VEVENT
BEGIN:VEVENT
DTSTART;TZID=Europe/Zagreb:20230402T180000
DTEND;TZID=Europe/Zagreb:20230402T180000
DTSTAMP:20260425T125404
CREATED:20230327T112902Z
LAST-MODIFIED:20230329T112211Z
UID:6617-1680458400-1680458400@apfelarena.hr
SUMMARY:Diary of Pauline P.
DESCRIPTION:This is a story about Paulina P. – a strong\, emotional and witty protagonist of this movie and her life in which we follow her adventures in class and at home\, as well as all the problems she successfully overcomes during a school year. The movie is based on Paulina’s diary\, and she talks about her friendship\, love and family-related problems from a critical perspective and through comic situations. The plot of the movie itself is set in the real world\, with a touch of “magic”. \nNeven Hitrec\n1h 35m – HR \nTICKETS AVAILABLE ONLINE: \n \nhttps://biletinial.com/en/sinema/koltuk_secimi/11638102/1018
URL:https://apfelarena.hr/en/dogadaj/diary-of-pauline-p/
LOCATION:Apfel Arena\, Put Volicije 5\, Makarska\, Hrvatska
ATTACH;FMTTYPE=image/jpeg:https://apfelarena.hr/wp-content/uploads/2023/03/dnevnik-pauline-p.jpeg
END:VEVENT
BEGIN:VEVENT
DTSTART;TZID=Europe/Zagreb:20230401T200000
DTEND;TZID=Europe/Zagreb:20230401T200000
DTSTAMP:20260425T125404
CREATED:20230327T112654Z
LAST-MODIFIED:20230329T112148Z
UID:6618-1680379200-1680379200@apfelarena.hr
SUMMARY:Dungeons & Dragons: Honor Among Thieves
DESCRIPTION:A charming thief and a band of unlikely adventurers embark on an epic quest to retrieve a lost relic\, but things go dangerously awry when they run afoul of the wrong people. \nJohn Francis Daley\, Jonathan Goldstein\n2h 14m – US \nTICKETS AVAILABLE ONLINE: \n\nhttps://biletinial.com/en/sinema/koltuk_secimi/11638100/1018
URL:https://apfelarena.hr/en/dogadaj/dungeons-dragons-honor-among-thieves/
LOCATION:Apfel Arena\, Put Volicije 5\, Makarska\, Hrvatska
ATTACH;FMTTYPE=image/jpeg:https://apfelarena.hr/wp-content/uploads/2023/03/dungeons-dragons-ast-lopova.jpg
END:VEVENT
BEGIN:VEVENT
DTSTART;TZID=Europe/Zagreb:20230330T200000
DTEND;TZID=Europe/Zagreb:20230330T200000
DTSTAMP:20260425T125404
CREATED:20230327T111907Z
LAST-MODIFIED:20230329T111935Z
UID:6619-1680206400-1680206400@apfelarena.hr
SUMMARY:John Wick: Chapter 4
DESCRIPTION:John Wick uncovers a path to defeating The High Table. But before he can earn his freedom\, Wick must face off against a new enemy with powerful alliances across the globe and forces that turn old friends into foes. \nChad Stahelski\n2h 49m – US \nTICKETS AVAILABLE ONLINE:  \nhttps://biletinial.com/en/sinema/koltuk_secimi/11638458/1018
URL:https://apfelarena.hr/en/dogadaj/john-wick-chapter-4/
LOCATION:Apfel Arena\, Put Volicije 5\, Makarska\, Hrvatska
ATTACH;FMTTYPE=image/jpeg:https://apfelarena.hr/wp-content/uploads/2023/03/john-wick-4-1.jpg
END:VEVENT
END:VCALENDAR