BEGIN:VCALENDAR
VERSION:2.0
PRODID:-//APFEL ARENA - ECPv5.16.3.1//NONSGML v1.0//EN
CALSCALE:GREGORIAN
METHOD:PUBLISH
X-WR-CALNAME:APFEL ARENA
X-ORIGINAL-URL:https://apfelarena.hr/en/
X-WR-CALDESC:Events for APFEL ARENA
REFRESH-INTERVAL;VALUE=DURATION:PT1H
X-Robots-Tag:noindex
X-PUBLISHED-TTL:PT1H
BEGIN:VTIMEZONE
TZID:Europe/Zagreb
BEGIN:DAYLIGHT
TZOFFSETFROM:+0100
TZOFFSETTO:+0200
TZNAME:CEST
DTSTART:20250330T010000
END:DAYLIGHT
BEGIN:STANDARD
TZOFFSETFROM:+0200
TZOFFSETTO:+0100
TZNAME:CET
DTSTART:20251026T010000
END:STANDARD
END:VTIMEZONE
BEGIN:VEVENT
DTSTART;TZID=Europe/Zagreb:20250202T170000
DTEND;TZID=Europe/Zagreb:20250202T170000
DTSTAMP:20260419T234515
CREATED:20250127T095627Z
LAST-MODIFIED:20250127T095751Z
UID:12079-1738515600-1738515600@apfelarena.hr
SUMMARY:Litlle Allan
DESCRIPTION:1h 25m – DK \nThe story of Allan\, who moves with his father to an apartment block on Amager after his parents get divorced. \n  \nTickets are available for sale at the info desk and online through Kino Mediteran Makarska.
URL:https://apfelarena.hr/en/dogadaj/litlle-allan/
LOCATION:Apfel Arena\, Put Volicije 5\, Makarska\, Hrvatska
CATEGORIES:Cinema shows
ATTACH;FMTTYPE=image/jpeg:https://apfelarena.hr/wp-content/uploads/2025/01/mali-alan.jpg
END:VEVENT
BEGIN:VEVENT
DTSTART;TZID=Europe/Zagreb:20250206T190000
DTEND;TZID=Europe/Zagreb:20250206T190000
DTSTAMP:20260419T234515
CREATED:20250127T100233Z
LAST-MODIFIED:20250127T100351Z
UID:12085-1738868400-1738868400@apfelarena.hr
SUMMARY:Love Hurts
DESCRIPTION:1h 30m – US \nA realtor is pulled back into the life he left behind after his former partner-in-crime resurfaces with an ominous message. With his crime-lord brother also on his trail\, he must confront his past and the history he never fully buried. \n  \nTickets are available for sale at the info desk and online through Kino Mediteran Makarska.
URL:https://apfelarena.hr/en/dogadaj/love-hurts/
LOCATION:Apfel Arena\, Put Volicije 5\, Makarska\, Hrvatska
CATEGORIES:Cinema shows
ATTACH;FMTTYPE=image/jpeg:https://apfelarena.hr/wp-content/uploads/2025/01/ljubav-boli.jpg
END:VEVENT
BEGIN:VEVENT
DTSTART;TZID=Europe/Zagreb:20250208T190000
DTEND;TZID=Europe/Zagreb:20250208T190000
DTSTAMP:20260419T234515
CREATED:20250127T100600Z
LAST-MODIFIED:20250127T100642Z
UID:12092-1739041200-1739041200@apfelarena.hr
SUMMARY:How to Make Millions Before Grandma Dies
DESCRIPTION:2h 7m – TH \nA man\, driven by his desire for a multi-million dollar inheritance\, begins to care for his terminally ill grandmother. However\, winning her favor will not be an easy task and he is not the only one with an eye on the money. \n  \nUlaznice su dostupne u prodaji na info pultu i online putem Kino Mediteran Makarska.
URL:https://apfelarena.hr/en/dogadaj/how-to-make-millions-before-grandma-dies/
LOCATION:Apfel Arena\, Put Volicije 5\, Makarska\, Hrvatska
CATEGORIES:Cinema shows
ATTACH;FMTTYPE=image/jpeg:https://apfelarena.hr/wp-content/uploads/2025/01/kako-se-obogatiti-prije-nego-sto-baka-umre.jpg
END:VEVENT
BEGIN:VEVENT
DTSTART;TZID=Europe/Zagreb:20250209T170000
DTEND;TZID=Europe/Zagreb:20250209T170000
DTSTAMP:20260419T234515
CREATED:20250127T100821Z
LAST-MODIFIED:20250127T100857Z
UID:12099-1739120400-1739120400@apfelarena.hr
SUMMARY:Dog Man
DESCRIPTION:1h 29m – US \nDog Man\, half dog and half man\, he is sworn to protect and serve as he doggedly pursues the feline supervillain Petey the Cat. \n  \nTickets are available for sale at the info desk and online through Kino Mediteran Makarska.
URL:https://apfelarena.hr/en/dogadaj/dog-man/
LOCATION:Apfel Arena\, Put Volicije 5\, Makarska\, Hrvatska
CATEGORIES:Cinema shows
ATTACH;FMTTYPE=image/jpeg:https://apfelarena.hr/wp-content/uploads/2025/01/covpas-sink.jpg
END:VEVENT
BEGIN:VEVENT
DTSTART;TZID=Europe/Zagreb:20250213T190000
DTEND;TZID=Europe/Zagreb:20250213T190000
DTSTAMP:20260419T234515
CREATED:20250207T140000Z
LAST-MODIFIED:20250207T140128Z
UID:12119-1739473200-1739473200@apfelarena.hr
SUMMARY:Companion
DESCRIPTION:1h 37m – US \nA billionaire’s death sets off a chain of events for Iris and her friends during a weekend trip to his lakeside estate. \n  \nTickets are available for sale at the info desk and online through Kino Mediteran Makarska.
URL:https://apfelarena.hr/en/dogadaj/companion/
LOCATION:Apfel Arena\, Put Volicije 5\, Makarska\, Hrvatska
CATEGORIES:Cinema shows
ATTACH;FMTTYPE=image/jpeg:https://apfelarena.hr/wp-content/uploads/2025/02/pratnja-2025251127512016876458134d0c94a5c0d0b60522fa.jpg
END:VEVENT
BEGIN:VEVENT
DTSTART;TZID=Europe/Zagreb:20250215T190000
DTEND;TZID=Europe/Zagreb:20250215T190000
DTSTAMP:20260419T234515
CREATED:20250207T140348Z
LAST-MODIFIED:20250207T140512Z
UID:12128-1739646000-1739646000@apfelarena.hr
SUMMARY:Bridget Jones: Mad About the Boy
DESCRIPTION:2h 5m – US \nBridget Jones navigates life as a widow and single mom with the help of her family\, friends\, and former lover\, Daniel. Back to work and on the apps\, she’s pursued by a younger man and maybe – just maybe – her son’s science teacher. \n  \nTickets are available for sale at the info desk and online through Kino Mediteran Makarska.
URL:https://apfelarena.hr/en/dogadaj/bridget-jones-mad-about-the-boy/
LOCATION:Apfel Arena\, Put Volicije 5\, Makarska\, Hrvatska
CATEGORIES:Cinema shows
ATTACH;FMTTYPE=image/jpeg:https://apfelarena.hr/wp-content/uploads/2025/02/bridget-jones-luda-za-njim-2025117141635d76a103e6bd64853897ecf1dc5fd665a.jpg
END:VEVENT
BEGIN:VEVENT
DTSTART;TZID=Europe/Zagreb:20250216T170000
DTEND;TZID=Europe/Zagreb:20250216T170000
DTSTAMP:20260419T234515
CREATED:20250207T140809Z
LAST-MODIFIED:20250207T140933Z
UID:12135-1739725200-1739725200@apfelarena.hr
SUMMARY:Paddington in Peru
DESCRIPTION:1h 46m – UK\, FR \nPaddington returns to Peru to visit his beloved Aunt Lucy\, who now resides at the Home for Retired Bears. With the Brown family in tow\, a thrilling adventure ensues when a mystery plunges them into an unexpected journey. \n  \nTickets are available for sale at the info desk and online through Kino Mediteran Makarska.
URL:https://apfelarena.hr/en/dogadaj/paddington-in-peru-2/
LOCATION:Apfel Arena\, Put Volicije 5\, Makarska\, Hrvatska
CATEGORIES:Cinema shows
ATTACH;FMTTYPE=image/jpeg:https://apfelarena.hr/wp-content/uploads/2025/02/medvjedi-paddington-u-dungli-sink-202412202220145ca3ee13305e417080d56f581e07088d.jpg
END:VEVENT
BEGIN:VEVENT
DTSTART;TZID=Europe/Zagreb:20250220T190000
DTEND;TZID=Europe/Zagreb:20250220T190000
DTSTAMP:20260419T234515
CREATED:20250207T141325Z
LAST-MODIFIED:20250207T141429Z
UID:12143-1740078000-1740078000@apfelarena.hr
SUMMARY:Captain America: Brave New World
DESCRIPTION:2h 15m – US \nSam Wilson\, the new Captain America\, finds himself in the middle of an international incident and must discover the motive behind a nefarious global plan. \n  \nTickets are available for sale at the info desk and online through Kino Mediteran Makarska.
URL:https://apfelarena.hr/en/dogadaj/captain-america-brave-new-world/
LOCATION:Apfel Arena\, Put Volicije 5\, Makarska\, Hrvatska
CATEGORIES:Cinema shows
ATTACH;FMTTYPE=image/jpeg:https://apfelarena.hr/wp-content/uploads/2025/02/kapetan-amerika-vrli-novi-svijet-2025117145254ce3ca4f333cc499391fc150cfe63b84f.jpg
END:VEVENT
BEGIN:VEVENT
DTSTART;TZID=Europe/Zagreb:20250222T190000
DTEND;TZID=Europe/Zagreb:20250222T190000
DTSTAMP:20260419T234515
CREATED:20250207T141819Z
LAST-MODIFIED:20250207T141937Z
UID:12150-1740250800-1740250800@apfelarena.hr
SUMMARY:The Seed of the Sacred Fig
DESCRIPTION:2h 47m – FR\, DE \nShot entirely in secret\, Mohammad Rasoulof’s award-winning thriller\, THE SEED OF THE SACRED FIG\, centers on a family thrust into the public eye when Iman is appointed as an investigating judge in Tehran. As political unrest erupts in the streets\, Iman realizes that his job is even more dangerous than expected\, making him increasingly paranoid and distrustful\, even of his own wife Najmeh and daughters Sana and Rezvan. \n  \nTickets are available for sale at the info desk and online through Kino Mediteran Makarska.
URL:https://apfelarena.hr/en/dogadaj/the-seed-of-the-sacred-fig/
LOCATION:Apfel Arena\, Put Volicije 5\, Makarska\, Hrvatska
CATEGORIES:Cinema shows
ATTACH;FMTTYPE=image/jpeg:https://apfelarena.hr/wp-content/uploads/2025/02/sjeme-svete-smokve-202512910295cd25da574a0744c4a3e8469069ec62ea.jpg
END:VEVENT
BEGIN:VEVENT
DTSTART;TZID=Europe/Zagreb:20250223T170000
DTEND;TZID=Europe/Zagreb:20250223T170000
DTSTAMP:20260419T234515
CREATED:20250207T142205Z
LAST-MODIFIED:20250207T142321Z
UID:12157-1740330000-1740330000@apfelarena.hr
SUMMARY:Sanctuary Tales: The Sloth Lane
DESCRIPTION:1h 30m – AU \nAfter a terrifying storm destroys their home\, a speedy sloth named Laura and her kooky family move to the big city in their rusted old food truck hoping to make their business a success. \n  \nTickets are available for sale at the info desk and online through Kino Mediteran Makarska.
URL:https://apfelarena.hr/en/dogadaj/sanctuary-tales-the-sloth-lane/
LOCATION:Apfel Arena\, Put Volicije 5\, Makarska\, Hrvatska
CATEGORIES:Cinema shows
ATTACH;FMTTYPE=image/jpeg:https://apfelarena.hr/wp-content/uploads/2025/02/super-spori-super-moni-sink-2025130105920815ec8fef0f14dc8981857849a9d257c.jpg
END:VEVENT
BEGIN:VEVENT
DTSTART;TZID=Europe/Zagreb:20250410T200000
DTEND;TZID=Europe/Zagreb:20250410T200000
DTSTAMP:20260419T234515
CREATED:20250409T065531Z
LAST-MODIFIED:20250409T065702Z
UID:14188-1744315200-1744315200@apfelarena.hr
SUMMARY:Fight or Flight
DESCRIPTION:1h 41m – US \nA mercenary takes on the job of tracking down a target on a plane but must protect her when they’re surrounded by people trying to kill both of them. \n  \nTickets are available for sale at the info desk and online through Kino Mediteran Makarska.
URL:https://apfelarena.hr/en/dogadaj/fight-or-flight/
LOCATION:Apfel Arena\, Put Volicije 5\, Makarska\, Hrvatska
CATEGORIES:Cinema shows
ATTACH;FMTTYPE=image/jpeg:https://apfelarena.hr/wp-content/uploads/2025/04/borba-ili-bijeg.jpg
END:VEVENT
BEGIN:VEVENT
DTSTART;TZID=Europe/Zagreb:20250411T180000
DTEND;TZID=Europe/Zagreb:20250411T180000
DTSTAMP:20260419T234515
CREATED:20250409T070135Z
LAST-MODIFIED:20250409T070236Z
UID:14195-1744394400-1744394400@apfelarena.hr
SUMMARY:A Minecraft Movie
DESCRIPTION:1h 41m – US \nFour misfits find themselves struggling with ordinary problems when they are suddenly pulled through a mysterious portal into the Overworld: a bizarre\, cubic wonderland that thrives on imagination. To get back home\, they’ll have to master this world while embarking on a magical quest with an unexpected\, expert crafter\, Steve. \n  \nTickets are available for sale at the info desk and online through Kino Mediteran Makarska.
URL:https://apfelarena.hr/en/dogadaj/a-minecraft-movie/
LOCATION:Apfel Arena\, Put Volicije 5\, Makarska\, Hrvatska
CATEGORIES:Cinema shows
ATTACH;FMTTYPE=image/jpeg:https://apfelarena.hr/wp-content/uploads/2025/04/minecraft-film.jpg
END:VEVENT
BEGIN:VEVENT
DTSTART;TZID=Europe/Zagreb:20250412T200000
DTEND;TZID=Europe/Zagreb:20250412T200000
DTSTAMP:20260419T234515
CREATED:20250409T070406Z
LAST-MODIFIED:20250409T070457Z
UID:14201-1744488000-1744488000@apfelarena.hr
SUMMARY:Bonnard: Pierre i Marthe
DESCRIPTION:2h 2m – FR \n1893. When aspiring French artist Pierre Bonnard (Vincent Macaigne) — a protégé of Claude Monet — meets Marthe de Méligny (Cécile de France)\, he has no idea that this self-proclaimed aristocrat will become the cornerstone of his life and work. From this moment\, though she appears in over a third of his work\, she’s more than just a muse; together over five decades\, the couple will explore creative fulfillment\, love and jealousies that challenge the standards of the time\, as the film interrogates the great mystery around their relationship. \n  \nTickets are available for sale at the info desk and online through Kino Mediteran Makarska.
URL:https://apfelarena.hr/en/dogadaj/bonnard-pierre-i-marthe/
LOCATION:Apfel Arena\, Put Volicije 5\, Makarska\, Hrvatska
CATEGORIES:Cinema shows
ATTACH;FMTTYPE=image/jpeg:https://apfelarena.hr/wp-content/uploads/2025/04/bonnard-pierre-i-marthe.jpg
END:VEVENT
BEGIN:VEVENT
DTSTART;TZID=Europe/Zagreb:20250413T180000
DTEND;TZID=Europe/Zagreb:20250413T180000
DTSTAMP:20260419T234515
CREATED:20250409T070722Z
LAST-MODIFIED:20250409T070813Z
UID:14210-1744567200-1744567200@apfelarena.hr
SUMMARY:Disney's Snow White
DESCRIPTION:1h 46m – US \n“Disney’s Snow White\,” a live-action musical reimagining of the classic 1937 film\, opens exclusively in theaters March 21\, 2025. Starring Rachel Zegler (“West Side Story”) in the title role and Gal Gadot (“Wonder Woman”) as her Stepmother\, the Evil Queen\, the magical music adventure journeys back to the timeless story with beloved characters Bashful\, Doc\, Dopey\, Grumpy\, Happy\, Sleepy\, and Sneezy. \n  \nTickets are available for sale at the info desk and online through Kino Mediteran Makarska.
URL:https://apfelarena.hr/en/dogadaj/disneys-snow-white/
LOCATION:Apfel Arena\, Put Volicije 5\, Makarska\, Hrvatska
CATEGORIES:Cinema shows
ATTACH;FMTTYPE=image/jpeg:https://apfelarena.hr/wp-content/uploads/2025/04/snjeguljica.jpg
END:VEVENT
BEGIN:VEVENT
DTSTART;TZID=Europe/Zagreb:20250417T200000
DTEND;TZID=Europe/Zagreb:20250417T200000
DTSTAMP:20260419T234515
CREATED:20250409T070934Z
LAST-MODIFIED:20250409T071025Z
UID:14217-1744920000-1744920000@apfelarena.hr
SUMMARY:Holy Cow
DESCRIPTION:1h 30m – FR \nTotone and his band of friends\, local barflies\, spend most of their summer scouring the Jura dances. Following the sudden death of his cheese-making father\, Totone suddenly finds himself responsible for his 7-year-old sister\, and must find a way to earn a living. With his friends\, he sets out to make the best Comté cheese\, one that will win him the gold medal at the agricultural competition and 30\,000 euros. \n  \nTickets are available for sale at the info desk and online through Kino Mediteran Makarska.
URL:https://apfelarena.hr/en/dogadaj/holy-cow/
LOCATION:Apfel Arena\, Put Volicije 5\, Makarska\, Hrvatska
CATEGORIES:Cinema shows
ATTACH;FMTTYPE=image/jpeg:https://apfelarena.hr/wp-content/uploads/2025/04/kraljevi-ljeta.jpg
END:VEVENT
BEGIN:VEVENT
DTSTART;TZID=Europe/Zagreb:20250421T180000
DTEND;TZID=Europe/Zagreb:20250421T180000
DTSTAMP:20260419T234515
CREATED:20250409T071203Z
LAST-MODIFIED:20250409T071251Z
UID:14224-1745258400-1745258400@apfelarena.hr
SUMMARY:Super Elfkins
DESCRIPTION:1h 26m – DE \nThis film is dubbed in Croatian only \n  \nTickets are available for sale at the info desk and online through Kino Mediteran Makarska.
URL:https://apfelarena.hr/en/dogadaj/super-elfkins/
LOCATION:Apfel Arena\, Put Volicije 5\, Makarska\, Hrvatska
CATEGORIES:Cinema shows
ATTACH;FMTTYPE=image/jpeg:https://apfelarena.hr/wp-content/uploads/2025/04/super-kucni-patuljci.jpg
END:VEVENT
BEGIN:VEVENT
DTSTART;TZID=Europe/Zagreb:20250422T200000
DTEND;TZID=Europe/Zagreb:20250422T200000
DTSTAMP:20260419T234515
CREATED:20250409T071429Z
LAST-MODIFIED:20250409T071518Z
UID:14231-1745352000-1745352000@apfelarena.hr
SUMMARY:Drop
DESCRIPTION:1h 35m – US \nA widowed mother on her first date in years arrives at an upscale restaurant. She is relieved that her date\, Henry is more charming and handsome than she expected. But their chemistry begins to curdle as Violet begins being irritated and then terrorized by a series of anonymous drops to her phone. Her family is threatened by an annonymous figure and she is left questioning wether the person behind the terror is Henry himself. \n  \nTickets are available for sale at the info desk and online through Kino Mediteran Makarska.
URL:https://apfelarena.hr/en/dogadaj/drop/
LOCATION:Apfel Arena\, Put Volicije 5\, Makarska\, Hrvatska
CATEGORIES:Cinema shows
ATTACH;FMTTYPE=image/jpeg:https://apfelarena.hr/wp-content/uploads/2025/04/igra-straha.jpg
END:VEVENT
BEGIN:VEVENT
DTSTART;VALUE=DATE:20251025
DTEND;VALUE=DATE:20251027
DTSTAMP:20260419T234515
CREATED:20250801T073135Z
LAST-MODIFIED:20250801T073427Z
UID:14750-1761350400-1761523199@apfelarena.hr
SUMMARY:Apfel Arena Makarska Half Marathon 2025
DESCRIPTION: Runners from over 20 countries have already joined the Apfel Arena Makarska Half Marathon 2025!\n‍♀️ More than 250 participants registered so far! \n Experience a one-of-a-kind race beneath the stunning Biokovo mountain\, along the coast of the Adriatic Sea – and this year\, we’re taking you right next to the beach\, just meters from the sea!  \n Makarska – where breathtaking nature meets the joy of running.\n Don’t miss out – secure your spot today!\n Register now: utrka.com/utrke/apfelhalf/2025/info
URL:https://apfelarena.hr/en/dogadaj/apfel-arena-makarska-half-marathon-2025/
LOCATION:Hrvatska
CATEGORIES:Istaknuto,Natjecanja,Sportske aktivnosti
ATTACH;FMTTYPE=image/jpeg:https://apfelarena.hr/wp-content/uploads/2025/08/Objava-za-half-marathon-instagram-1.jpg
END:VEVENT
END:VCALENDAR