BEGIN:VCALENDAR
VERSION:2.0
PRODID:-//APFEL ARENA - ECPv5.16.3.1//NONSGML v1.0//EN
CALSCALE:GREGORIAN
METHOD:PUBLISH
X-WR-CALNAME:APFEL ARENA
X-ORIGINAL-URL:https://apfelarena.hr/en/
X-WR-CALDESC:Events for APFEL ARENA
REFRESH-INTERVAL;VALUE=DURATION:PT1H
X-Robots-Tag:noindex
X-PUBLISHED-TTL:PT1H
BEGIN:VTIMEZONE
TZID:Europe/Zagreb
BEGIN:DAYLIGHT
TZOFFSETFROM:+0100
TZOFFSETTO:+0200
TZNAME:CEST
DTSTART:20230326T010000
END:DAYLIGHT
BEGIN:STANDARD
TZOFFSETFROM:+0200
TZOFFSETTO:+0100
TZNAME:CET
DTSTART:20231029T010000
END:STANDARD
END:VTIMEZONE
BEGIN:VEVENT
DTSTART;TZID=Europe/Zagreb:20230601T200000
DTEND;TZID=Europe/Zagreb:20230601T200000
DTSTAMP:20260424T234359
CREATED:20230531T063314Z
LAST-MODIFIED:20230531T063929Z
UID:7149-1685649600-1685649600@apfelarena.hr
SUMMARY:About my Father
DESCRIPTION:The hottest comic in America\, Sebastian Maniscalco joins forces with legendary Italian-American and two-time Oscar winner\, Robert De Niro\, in the new comedy ABOUT MY FATHER. The film centers around Sebastian (Maniscalco) who is encouraged by his fiancée (Leslie Bibb) to bring his immigrant\, hairdresser father\, Salvo (De Niro)\, to a weekend get-together with her super-rich and exceedingly eccentric family (Kim Cattrall\, Anders Holm\, Brett Dier\, David Rasche). The weekend develops into what can only be described as a culture clash\, leaving Sebastian and Salvo to discover that the great thing about family is everything about family. \nLaura Terruso\n1h 29m – US \n  \nYou can buy tickets online at Kino Mediteran Makarska.
URL:https://apfelarena.hr/en/dogadaj/about-my-father/
LOCATION:Apfel Arena\, Put Volicije 5\, Makarska\, Hrvatska
CATEGORIES:Cinema shows
ATTACH;FMTTYPE=image/jpeg:https://apfelarena.hr/wp-content/uploads/2023/05/praznici-na-talijanski.jpg
END:VEVENT
BEGIN:VEVENT
DTSTART;TZID=Europe/Zagreb:20230603T200000
DTEND;TZID=Europe/Zagreb:20230603T200000
DTSTAMP:20260424T234359
CREATED:20230531T063459Z
LAST-MODIFIED:20230531T064223Z
UID:7148-1685822400-1685822400@apfelarena.hr
SUMMARY:Tovar
DESCRIPTION:The world is a mysterious place when seen through the eyes of an animal. EO\, a grey donkey with melancholic eyes\, meets good and bad people on his life’s path\, experiences joy and pain\, endures the wheel of fortune randomly turn his luck into disaster and his despair into unexpected bliss. But not even for a moment does he lose his innocence. \nJerzy Skolimowski\n1h 28m – PL\, IT \n  \nYou can buy tickets at Kino Mediteran Makarska.
URL:https://apfelarena.hr/en/dogadaj/tovar/
LOCATION:Apfel Arena\, Put Volicije 5\, Makarska\, Hrvatska
CATEGORIES:Cinema shows
ATTACH;FMTTYPE=image/jpeg:https://apfelarena.hr/wp-content/uploads/2023/05/tovar.jpg
END:VEVENT
BEGIN:VEVENT
DTSTART;TZID=Europe/Zagreb:20230604T180000
DTEND;TZID=Europe/Zagreb:20230604T180000
DTSTAMP:20260424T234359
CREATED:20230531T063644Z
LAST-MODIFIED:20230531T064019Z
UID:7150-1685901600-1685901600@apfelarena.hr
SUMMARY:Spider-Man: Across the Spider-Verse
DESCRIPTION:Miles Morales returns for the next chapter of the Oscar®-winning Spider-Verse saga\, an epic adventure that will transport Brooklyn’s full-time\, friendly neighborhood Spider-Man across the Multiverse to join forces with Gwen Stacy and a new team of Spider-People to face off with a villain more powerful than anything they have ever encountered. \nKemp Powers\, Joaquim Dos Santos\, Justin K. Thompson\n2h 20m – US \n  \nYou can buy tickets online at Kino Mediteran Makarska.
URL:https://apfelarena.hr/en/dogadaj/spider-man-across-the-spider-verse/
LOCATION:Apfel Arena\, Put Volicije 5\, Makarska\, Hrvatska
CATEGORIES:Cinema shows
ATTACH;FMTTYPE=image/jpeg:https://apfelarena.hr/wp-content/uploads/2023/05/spider-man-putovanje-kroz-spider-svijet.jpg
END:VEVENT
BEGIN:VEVENT
DTSTART;VALUE=DATE:20230624
DTEND;VALUE=DATE:20230626
DTSTAMP:20260424T234359
CREATED:20230623T075330Z
LAST-MODIFIED:20230623T075412Z
UID:7200-1687564800-1687737599@apfelarena.hr
SUMMARY:THE FIRST- EVER CROATIAN PICKLEBALL EVENT
DESCRIPTION:Come and join us for the first-ever Croatian pickleball clinic in Apfel Arena\, Makarska.  Save the date – 24th and 25th of June. And the best thing is – it’s for free! Just come and play. Equipment and refreshments are provided. \n\n\nThe fun won’t end at the pickleball court. Join us on a Skywalk Biokovo  and sailing excursion around the islands.  The first-ever pickleball event in Croatia is coming soon! Facebook or WhatsApp\, drop a message and you’re in! \n\n\n*Just keep in mind that the number of participants is limited. \n\n\n\n\n\nWhy? \nEasy to learn\nYou don’t need to be fit to start playing\nLow impact on joints\nDevelops social skills \nDuring our event Franjo Keškić\, certified sports/manual physiotherapist with FIFA Football diploma will be with us.  He will take care of preparation\, check-ups\, and deal with possible injuries.
URL:https://apfelarena.hr/en/dogadaj/prvi-ikad-pickleball-dogadaj-u-hrvatskoj/
LOCATION:Apfel Arena\, Put Volicije 5\, Makarska\, Hrvatska
CATEGORIES:Igre
ATTACH;FMTTYPE=image/jpeg:https://apfelarena.hr/wp-content/uploads/2023/06/WhatsApp-Slika-2023-06-23-u-09.07.38.jpg
END:VEVENT
END:VCALENDAR