BEGIN:VCALENDAR
VERSION:2.0
PRODID:-//APFEL ARENA - ECPv5.16.3.1//NONSGML v1.0//EN
CALSCALE:GREGORIAN
METHOD:PUBLISH
X-WR-CALNAME:APFEL ARENA
X-ORIGINAL-URL:https://apfelarena.hr/en/
X-WR-CALDESC:Events for APFEL ARENA
REFRESH-INTERVAL;VALUE=DURATION:PT1H
X-Robots-Tag:noindex
X-PUBLISHED-TTL:PT1H
BEGIN:VTIMEZONE
TZID:Europe/Zagreb
BEGIN:DAYLIGHT
TZOFFSETFROM:+0100
TZOFFSETTO:+0200
TZNAME:CEST
DTSTART:20230326T010000
END:DAYLIGHT
BEGIN:STANDARD
TZOFFSETFROM:+0200
TZOFFSETTO:+0100
TZNAME:CET
DTSTART:20231029T010000
END:STANDARD
END:VTIMEZONE
BEGIN:VEVENT
DTSTART;TZID=Europe/Zagreb:20230806T203000
DTEND;TZID=Europe/Zagreb:20230806T203000
DTSTAMP:20260424T175000
CREATED:20230803T073227Z
LAST-MODIFIED:20230803T073430Z
UID:8013-1691353800-1691353800@apfelarena.hr
SUMMARY:Barbie
DESCRIPTION:Barbie and Ken are having the time of their lives in the colorful and seemingly perfect world of Barbie Land. However\, when they get a chance to go to the real world\, they soon discover the joys and perils of living among humans. \nGreta Gerwig\n1h 54m – ABD \n  \nYou can buy tickets online at Kino Mediteran.
URL:https://apfelarena.hr/en/dogadaj/barbie/
LOCATION:Apfel Arena\, Put Volicije 5\, Makarska\, Hrvatska
CATEGORIES:Cinema shows
ATTACH;FMTTYPE=image/jpeg:https://apfelarena.hr/wp-content/uploads/2023/08/barbie.jpg
END:VEVENT
END:VCALENDAR