BEGIN:VCALENDAR
VERSION:2.0
PRODID:-//APFEL ARENA - ECPv5.16.3.1//NONSGML v1.0//EN
CALSCALE:GREGORIAN
METHOD:PUBLISH
X-WR-CALNAME:APFEL ARENA
X-ORIGINAL-URL:https://apfelarena.hr/en/
X-WR-CALDESC:Events for APFEL ARENA
REFRESH-INTERVAL;VALUE=DURATION:PT1H
X-Robots-Tag:noindex
X-PUBLISHED-TTL:PT1H
BEGIN:VTIMEZONE
TZID:Europe/Zagreb
BEGIN:DAYLIGHT
TZOFFSETFROM:+0100
TZOFFSETTO:+0200
TZNAME:CEST
DTSTART:20230326T010000
END:DAYLIGHT
BEGIN:STANDARD
TZOFFSETFROM:+0200
TZOFFSETTO:+0100
TZNAME:CET
DTSTART:20231029T010000
END:STANDARD
END:VTIMEZONE
BEGIN:VEVENT
DTSTART;TZID=Europe/Zagreb:20230921T200000
DTEND;TZID=Europe/Zagreb:20230921T200000
DTSTAMP:20260422T221104
CREATED:20230919T104815Z
LAST-MODIFIED:20230919T104940Z
UID:8531-1695326400-1695326400@apfelarena.hr
SUMMARY:Sound of Freedom
DESCRIPTION:Sound of Freedom\, based on the incredible true story\, shines a light on even the darkest of places. After rescuing a young boy from ruthless child traffickers\, a federal agent learns the boy’s sister is still captive and decides to embark on a dangerous mission to save her. With time running out\, he quits his job and journeys deep into the Colombian jungle\, putting his life on the line to free her from a fate worse than death. \nAlejandro Monteverde\n2h 11m – US \n  \nYou can buy tickets online at Kino Mediteran Makarska
URL:https://apfelarena.hr/en/dogadaj/sound-of-freedom/
LOCATION:Apfel Arena\, Put Volicije 5\, Makarska\, Hrvatska
CATEGORIES:Cinema shows
ATTACH;FMTTYPE=image/jpeg:https://apfelarena.hr/wp-content/uploads/2023/09/zvuk-slobode.jpg
END:VEVENT
BEGIN:VEVENT
DTSTART;TZID=Europe/Zagreb:20230923T200000
DTEND;TZID=Europe/Zagreb:20230923T200000
DTSTAMP:20260422T221104
CREATED:20230919T105319Z
LAST-MODIFIED:20230919T105433Z
UID:8536-1695499200-1695499200@apfelarena.hr
SUMMARY:Pelican
DESCRIPTION:Josip is a football player recovering at a health spa from a knee injury seriously threatening his career. Between sessions with his self-absorbed physiotherapist and visits from his soon to be ex-girlfriend and former best friend\, he starts to realise that he needs to rediscover himself. When he stumbles onto a sales conference at the spa and gets mistaken for someone else\, he embraces his new identity and starts exploring life from a new perspective on a quest to find his true self. Film directed by Filip Heraković premiered at the Tallinn Black Nights Film Festival\,where it won the special jury prize. \nFilip Heraković\n1h 27m – HR \n  \nYou can buy tickets online at Kino Mediteran Makarska
URL:https://apfelarena.hr/en/dogadaj/pelican/
LOCATION:Apfel Arena\, Put Volicije 5\, Makarska\, Hrvatska
CATEGORIES:Cinema shows
ATTACH;FMTTYPE=image/jpeg:https://apfelarena.hr/wp-content/uploads/2023/09/pelikan.jpg
END:VEVENT
BEGIN:VEVENT
DTSTART;TZID=Europe/Zagreb:20230924T180000
DTEND;TZID=Europe/Zagreb:20230924T180000
DTSTAMP:20260422T221104
CREATED:20230919T105630Z
LAST-MODIFIED:20230919T105737Z
UID:8540-1695578400-1695578400@apfelarena.hr
SUMMARY:Mia and Me: The Hero of Centopia
DESCRIPTION:Mia discovers her magic stone is part of an ancient prophecy and embarks on a thrilling journey to the farthest islands of Centopia to face a great evil\, and shape her own destiny. \nAdam Gunn\n1h 25m – DE\, AU\, BE \n  \nYou can buy tickets online at Kino Mediteran Makarska
URL:https://apfelarena.hr/en/dogadaj/mia-and-me-the-hero-of-centopia/
LOCATION:Apfel Arena\, Put Volicije 5\, Makarska\, Hrvatska
CATEGORIES:Cinema shows
ATTACH;FMTTYPE=image/jpeg:https://apfelarena.hr/wp-content/uploads/2023/09/mia-i-ja.jpg
END:VEVENT
END:VCALENDAR